BEGIN:VCALENDAR
VERSION:2.0
PRODID:-//First English Lutheran Church - ECPv6.15.20//NONSGML v1.0//EN
CALSCALE:GREGORIAN
METHOD:PUBLISH
X-WR-CALNAME:First English Lutheran Church
X-ORIGINAL-URL:https://firstenglish.net/wp
X-WR-CALDESC:Events for First English Lutheran Church
REFRESH-INTERVAL;VALUE=DURATION:PT1H
X-Robots-Tag:noindex
X-PUBLISHED-TTL:PT1H
BEGIN:VTIMEZONE
TZID:America/Chicago
BEGIN:DAYLIGHT
TZOFFSETFROM:-0600
TZOFFSETTO:-0500
TZNAME:CDT
DTSTART:20250309T080000
END:DAYLIGHT
BEGIN:STANDARD
TZOFFSETFROM:-0500
TZOFFSETTO:-0600
TZNAME:CST
DTSTART:20251102T070000
END:STANDARD
BEGIN:DAYLIGHT
TZOFFSETFROM:-0600
TZOFFSETTO:-0500
TZNAME:CDT
DTSTART:20260308T080000
END:DAYLIGHT
BEGIN:STANDARD
TZOFFSETFROM:-0500
TZOFFSETTO:-0600
TZNAME:CST
DTSTART:20261101T070000
END:STANDARD
BEGIN:DAYLIGHT
TZOFFSETFROM:-0600
TZOFFSETTO:-0500
TZNAME:CDT
DTSTART:20270314T080000
END:DAYLIGHT
BEGIN:STANDARD
TZOFFSETFROM:-0500
TZOFFSETTO:-0600
TZNAME:CST
DTSTART:20271107T070000
END:STANDARD
END:VTIMEZONE
BEGIN:VEVENT
DTSTART;TZID=America/Chicago:20260419T090000
DTEND;TZID=America/Chicago:20260419T100000
DTSTAMP:20260419T133516
CREATED:20230720T162152Z
LAST-MODIFIED:20230720T162452Z
UID:10002359-1776589200-1776592800@firstenglish.net
SUMMARY:9 AM Worship Service - KDIO & FB Live
DESCRIPTION:
URL:https://firstenglish.net/wp/calendar/9-am-worship-service-kdio-fb-live-2-2-2/2026-04-19/
LOCATION:First English Lutheran Church\, 9 3rd St NW\, Ortonville\, MN\, 56278\, United States
CATEGORIES:Worship Service
END:VEVENT
BEGIN:VEVENT
DTSTART;TZID=America/Chicago:20260419T093000
DTEND;TZID=America/Chicago:20260419T103000
DTSTAMP:20260419T133516
CREATED:20250826T164305Z
LAST-MODIFIED:20250826T164305Z
UID:10005841-1776591000-1776594600@firstenglish.net
SUMMARY:Sunday School
DESCRIPTION:Sunday School students will be dismissed following the Children’s Message to go to class at approximately 9:30 am and run until 10:15 am.
URL:https://firstenglish.net/wp/calendar/sunday-school/2026-04-19/
LOCATION:First English Lutheran Church\, 9 3rd St NW\, Ortonville\, MN\, 56278\, United States
END:VEVENT
END:VCALENDAR