BEGIN:VCALENDAR
VERSION:2.0
PRODID:-//First English Lutheran Church - ECPv6.15.20//NONSGML v1.0//EN
CALSCALE:GREGORIAN
METHOD:PUBLISH
X-ORIGINAL-URL:https://firstenglish.net/wp
X-WR-CALDESC:Events for First English Lutheran Church
REFRESH-INTERVAL;VALUE=DURATION:PT1H
X-Robots-Tag:noindex
X-PUBLISHED-TTL:PT1H
BEGIN:VTIMEZONE
TZID:America/Chicago
BEGIN:DAYLIGHT
TZOFFSETFROM:-0600
TZOFFSETTO:-0500
TZNAME:CDT
DTSTART:20300310T080000
END:DAYLIGHT
BEGIN:STANDARD
TZOFFSETFROM:-0500
TZOFFSETTO:-0600
TZNAME:CST
DTSTART:20301103T070000
END:STANDARD
BEGIN:DAYLIGHT
TZOFFSETFROM:-0600
TZOFFSETTO:-0500
TZNAME:CDT
DTSTART:20310309T080000
END:DAYLIGHT
BEGIN:STANDARD
TZOFFSETFROM:-0500
TZOFFSETTO:-0600
TZNAME:CST
DTSTART:20311102T070000
END:STANDARD
BEGIN:DAYLIGHT
TZOFFSETFROM:-0600
TZOFFSETTO:-0500
TZNAME:CDT
DTSTART:20320314T080000
END:DAYLIGHT
BEGIN:STANDARD
TZOFFSETFROM:-0500
TZOFFSETTO:-0600
TZNAME:CST
DTSTART:20321107T070000
END:STANDARD
END:VTIMEZONE
BEGIN:VEVENT
DTSTART;TZID=America/Chicago:20310101T090000
DTEND;TZID=America/Chicago:20310101T110000
DTSTAMP:20260421T000522
CREATED:20251216T143837Z
LAST-MODIFIED:20251216T143837Z
UID:10006463-1925024400-1925031600@firstenglish.net
SUMMARY:Circle 4 Bible Study (tentative)
DESCRIPTION:Tentative schedule for the Circle 4 Women’s Bible Study group usually meeting in the church lounge at 9 am on the 1st Wednesday of the month. More information will be given when we get closer to this date.
URL:https://firstenglish.net/wp/calendar/circle-4-bible-study-tentative/2031-01-01/
LOCATION:First English Lutheran Church\, 9 3rd St NW\, Ortonville\, MN\, 56278\, United States
END:VEVENT
BEGIN:VEVENT
DTSTART;TZID=America/Chicago:20310105T090000
DTEND;TZID=America/Chicago:20310105T100000
DTSTAMP:20260421T000522
CREATED:20230720T162152Z
LAST-MODIFIED:20230720T162452Z
UID:10006773-1925370000-1925373600@firstenglish.net
SUMMARY:9 AM Worship Service - KDIO & FB Live
DESCRIPTION:
URL:https://firstenglish.net/wp/calendar/9-am-worship-service-kdio-fb-live-2-2-2/2031-01-05/
LOCATION:First English Lutheran Church\, 9 3rd St NW\, Ortonville\, MN\, 56278\, United States
CATEGORIES:Worship Service
END:VEVENT
BEGIN:VEVENT
DTSTART;TZID=America/Chicago:20310106T110000
DTEND;TZID=America/Chicago:20310106T120000
DTSTAMP:20260421T000522
CREATED:20260130T171807Z
LAST-MODIFIED:20260130T171807Z
UID:10006714-1925463600-1925467200@firstenglish.net
SUMMARY:Staff Meeting
DESCRIPTION:Pastor Cheryl\, Liz\, and Barbara will have a staff meeting in the church office.
URL:https://firstenglish.net/wp/calendar/staff-meeting-6/2031-01-06/
LOCATION:First English Lutheran Church\, 9 3rd St NW\, Ortonville\, MN\, 56278\, United States
END:VEVENT
BEGIN:VEVENT
DTSTART;TZID=America/Chicago:20310108T130000
DTEND;TZID=America/Chicago:20310108T140000
DTSTAMP:20260421T000522
CREATED:20250827T165624Z
LAST-MODIFIED:20251003T163908Z
UID:10006736-1925643600-1925647200@firstenglish.net
SUMMARY:Fairway View Worship LIVE
DESCRIPTION:Pastor Cheryl will hold a communion service at Fairway View live.
URL:https://firstenglish.net/wp/calendar/fairway-view-worship-live-3/2031-01-08/
LOCATION:Fairway View\, 217 Lundell Avenue\, Ortonville\, MN\, 56278\, United States
CATEGORIES:Worship Service
END:VEVENT
BEGIN:VEVENT
DTSTART;TZID=America/Chicago:20310112T090000
DTEND;TZID=America/Chicago:20310112T100000
DTSTAMP:20260421T000522
CREATED:20230720T162152Z
LAST-MODIFIED:20230720T162452Z
UID:10006774-1925974800-1925978400@firstenglish.net
SUMMARY:9 AM Worship Service - KDIO & FB Live
DESCRIPTION:
URL:https://firstenglish.net/wp/calendar/9-am-worship-service-kdio-fb-live-2-2-2/2031-01-12/
LOCATION:First English Lutheran Church\, 9 3rd St NW\, Ortonville\, MN\, 56278\, United States
CATEGORIES:Worship Service
END:VEVENT
BEGIN:VEVENT
DTSTART;TZID=America/Chicago:20310113T110000
DTEND;TZID=America/Chicago:20310113T120000
DTSTAMP:20260421T000522
CREATED:20260130T171807Z
LAST-MODIFIED:20260130T171807Z
UID:10006715-1926068400-1926072000@firstenglish.net
SUMMARY:Staff Meeting
DESCRIPTION:Pastor Cheryl\, Liz\, and Barbara will have a staff meeting in the church office.
URL:https://firstenglish.net/wp/calendar/staff-meeting-6/2031-01-13/
LOCATION:First English Lutheran Church\, 9 3rd St NW\, Ortonville\, MN\, 56278\, United States
END:VEVENT
BEGIN:VEVENT
DTSTART;TZID=America/Chicago:20310119T090000
DTEND;TZID=America/Chicago:20310119T100000
DTSTAMP:20260421T000522
CREATED:20230720T162152Z
LAST-MODIFIED:20230720T162452Z
UID:10006775-1926579600-1926583200@firstenglish.net
SUMMARY:9 AM Worship Service - KDIO & FB Live
DESCRIPTION:
URL:https://firstenglish.net/wp/calendar/9-am-worship-service-kdio-fb-live-2-2-2/2031-01-19/
LOCATION:First English Lutheran Church\, 9 3rd St NW\, Ortonville\, MN\, 56278\, United States
CATEGORIES:Worship Service
END:VEVENT
BEGIN:VEVENT
DTSTART;TZID=America/Chicago:20310120T110000
DTEND;TZID=America/Chicago:20310120T120000
DTSTAMP:20260421T000522
CREATED:20260130T171807Z
LAST-MODIFIED:20260130T171807Z
UID:10006716-1926673200-1926676800@firstenglish.net
SUMMARY:Staff Meeting
DESCRIPTION:Pastor Cheryl\, Liz\, and Barbara will have a staff meeting in the church office.
URL:https://firstenglish.net/wp/calendar/staff-meeting-6/2031-01-20/
LOCATION:First English Lutheran Church\, 9 3rd St NW\, Ortonville\, MN\, 56278\, United States
END:VEVENT
BEGIN:VEVENT
DTSTART;VALUE=DATE:20310126
DTEND;VALUE=DATE:20310127
DTSTAMP:20260421T000522
CREATED:20231215T181150Z
LAST-MODIFIED:20231215T181150Z
UID:10006821-1927152000-1927238399@firstenglish.net
SUMMARY:Noisy Offering
DESCRIPTION:Noisy offering is collected during our service on the last Sunday of the month. \nWe support 4 South African Students through our congregation.  The Youth Group sponsors one student and the remaining 3 are sponsored by the Noisy Offering.  Each student’s tuition is $300 a year.  Your generosity helps us meet these obligations.
URL:https://firstenglish.net/wp/calendar/noisy-offering/2031-01-26/
LOCATION:First English Lutheran Church\, 9 3rd St NW\, Ortonville\, MN\, 56278\, United States
END:VEVENT
BEGIN:VEVENT
DTSTART;TZID=America/Chicago:20310126T090000
DTEND;TZID=America/Chicago:20310126T100000
DTSTAMP:20260421T000522
CREATED:20230720T162152Z
LAST-MODIFIED:20230720T162452Z
UID:10006776-1927184400-1927188000@firstenglish.net
SUMMARY:9 AM Worship Service - KDIO & FB Live
DESCRIPTION:
URL:https://firstenglish.net/wp/calendar/9-am-worship-service-kdio-fb-live-2-2-2/2031-01-26/
LOCATION:First English Lutheran Church\, 9 3rd St NW\, Ortonville\, MN\, 56278\, United States
CATEGORIES:Worship Service
END:VEVENT
BEGIN:VEVENT
DTSTART;TZID=America/Chicago:20310127T110000
DTEND;TZID=America/Chicago:20310127T120000
DTSTAMP:20260421T000522
CREATED:20260130T171807Z
LAST-MODIFIED:20260130T171807Z
UID:10006717-1927278000-1927281600@firstenglish.net
SUMMARY:Staff Meeting
DESCRIPTION:Pastor Cheryl\, Liz\, and Barbara will have a staff meeting in the church office.
URL:https://firstenglish.net/wp/calendar/staff-meeting-6/2031-01-27/
LOCATION:First English Lutheran Church\, 9 3rd St NW\, Ortonville\, MN\, 56278\, United States
END:VEVENT
END:VCALENDAR